BEGIN:VCALENDAR
VERSION:2.0
PRODID:-//hacksw/handcal//NONSGML v1.0//EN
BEGIN:VEVENT
SUMMARY:Initiation M6 (nes en 2011 et 2012)
UID:ddd76a64-b5e7-43da-b8d6-ca8899f2879f
DTSTART:20170617T083000Z
DTEND:20170617T100000Z
LOCATION:Localisation   
CATEGORIES:Entrainement
STATUS:
DESCRIPTION:<p>Pas de competition, mais l'apprentissage des regles du
 rugby et de la vie, tout ca dans le plaisir de jouer!</p>
 
URL;VALUE=URI:https://www.rugbymelesse.fr/evenements/2017/06/17/initiation-m6-nes-en-2011-et-2012-772317
END:VEVENT
END:VCALENDAR
