BEGIN:VCALENDAR
VERSION:2.0
PRODID:-//hacksw/handcal//NONSGML v1.0//EN
BEGIN:VEVENT
SUMMARY:Entrainement M8 (2009 & 2010) et 2008
UID:3e898094-9d30-4ace-925a-3bfa1e0dd94f
DTSTART:20170617T083000Z
DTEND:20170617T100000Z
LOCATION:Stade de La Janaie 5 Rue de Montreuil 35520 Melesse
CATEGORIES:Entrainement
STATUS:
DESCRIPTION:<p>Les premiers "vrais" entrainements, les premiers
 matchs... sans oublier l'essentiel: les valeurs!</p>
 
URL;VALUE=URI:https://www.rugbymelesse.fr/evenements/2017/06/17/entrainement-m8-2009-amp-2010-et-2008-772352
END:VEVENT
END:VCALENDAR
