BEGIN:VCALENDAR
VERSION:2.0
PRODID:-//hacksw/handcal//NONSGML v1.0//EN
BEGIN:VEVENT
SUMMARY:Entrainement M14 et F15 (2003 et 2004 + filles nees en 2002)
UID:90cdbaba-cbbd-4229-ab28-db8c4fb88c76
DTSTART:20170617T120000Z
DTEND:20170617T140000Z
LOCATION:Localisation   
CATEGORIES:Entrainement
STATUS:
DESCRIPTION:<p>On se prepare a jouer a XV et a VII.</p>
 
URL;VALUE=URI:https://www.rugbymelesse.fr/evenements/2017/06/17/entrainement-m14-et-f15-2003-et-2004-filles-nees-en-2002-772457
END:VEVENT
END:VCALENDAR
