BEGIN:VCALENDAR
VERSION:2.0
PRODID:-//hacksw/handcal//NONSGML v1.0//EN
BEGIN:VEVENT
SUMMARY:Entrainement M12 (2005 & 2006)
UID:0c0b46e1-fc01-428a-9da5-458fa4d65f9b
DTSTART:20170617T120000Z
DTEND:20170617T140000Z
LOCATION:Localisation   
CATEGORIES:Entrainement
STATUS:
DESCRIPTION:<p>On prepare le championnat de Bretagne!</p>
 
URL;VALUE=URI:https://www.rugbymelesse.fr/evenements/2017/06/17/entrainement-m12-2005-amp-2006-772421
END:VEVENT
END:VCALENDAR
