BEGIN:VCALENDAR
VERSION:2.0
PRODID:-//hacksw/handcal//NONSGML v1.0//EN
BEGIN:VEVENT
SUMMARY:Entrainement M10 (2007)
UID:22885d4c-4e08-4f54-8ca7-5ba50a01b2ff
DTSTART:20170617T120000Z
DTEND:20170617T140000Z
LOCATION:Stade de La Janaie 5 Rue de Montreuil 35520 Melesse
CATEGORIES:Entrainement
STATUS:
DESCRIPTION:<p>Premier championnat... mais l'essentiel reste les
 valeurs!</p>
 
URL;VALUE=URI:https://www.rugbymelesse.fr/evenements/2017/06/17/entrainement-m10-2007-772386
END:VEVENT
END:VCALENDAR
