BEGIN:VCALENDAR
VERSION:2.0
PRODID:-//hacksw/handcal//NONSGML v1.0//EN
BEGIN:VEVENT
SUMMARY:Entrainement M8, M10, M12 et M14
UID:7faae1e6-47c8-4978-8f22-2e6e6db50e69
DTSTART:20170614T153000Z
DTEND:20170614T170000Z
LOCATION:Localisation   
CATEGORIES:Entrainement
STATUS:
DESCRIPTION:<p>Parce que pour progresser il faut s'entrainer. Et pour
 progresser ensemble il faut s'entrainer ensemble.</p>
 
URL;VALUE=URI:https://www.rugbymelesse.fr/evenements/2017/06/14/entrainement-m8-m10-m12-et-m14-772508
END:VEVENT
END:VCALENDAR
