BEGIN:VCALENDAR
VERSION:2.0
PRODID:-//hacksw/handcal//NONSGML v1.0//EN
BEGIN:VEVENT
SUMMARY:Entrainement M6 2011
UID:de30cab5-ed4a-48ca-af97-b56b5e01e645
DTSTART:20170613T220000Z
DTEND:20170614T220000Z
LOCATION:Localisation   
CATEGORIES:Entrainement
STATUS:
URL;VALUE=URI:https://www.rugbymelesse.fr/evenements/2017/06/14/entrainement-m6-2011-932732
END:VEVENT
END:VCALENDAR
