BEGIN:VCALENDAR
VERSION:2.0
PRODID:-//hacksw/handcal//NONSGML v1.0//EN
BEGIN:VEVENT
SUMMARY:Entrainement M16
UID:24ff3ec2-7f17-4671-b0b7-b929d1beb9a2
DTSTART:20170614T153000Z
DTEND:20170614T170000Z
LOCATION:Localisation stade de La Janaie 35520 Melesse
CATEGORIES:Entrainement
STATUS:
URL;VALUE=URI:https://www.rugbymelesse.fr/evenements/2017/06/14/entrainement-m16-772627
END:VEVENT
END:VCALENDAR
