BEGIN:VCALENDAR
VERSION:2.0
PRODID:-//hacksw/handcal//NONSGML v1.0//EN
BEGIN:VEVENT
SUMMARY:Initiation M6 (nes en 2011)
UID:22b63917-c1f8-418b-8653-915ad87684b7
DTSTART:20170610T083000Z
DTEND:20170610T100000Z
LOCATION:Localisation   
CATEGORIES:Entrainement
STATUS:
DESCRIPTION:<p>Pas de competition, mais l'apprentissage des regles du
 rugby et de la vie, tout ca dans le plaisir de jouer!</p>
 
URL;VALUE=URI:https://www.rugbymelesse.fr/evenements/2017/06/10/initiation-m6-nes-en-2011-772316
END:VEVENT
END:VCALENDAR
