BEGIN:VCALENDAR
VERSION:2.0
PRODID:-//hacksw/handcal//NONSGML v1.0//EN
BEGIN:VEVENT
SUMMARY:Entrainement M16 La Janaie
UID:daaed29a-8f4b-4079-a666-64c94117b814
DTSTART:20170610T120000Z
DTEND:20170610T140000Z
LOCATION:Localisation La Janaie 35520 Melesse
CATEGORIES:Entrainement
STATUS:
DESCRIPTION:<p>La saison n'est pas finie!!!!</p>
 
 <p>Il faut profiter
 des beaux jours pour progresser et pratiquer notre sport
 favoris!</p>
 
 <p>On vous attend nombreux aux entrainements, jusqu'au
 1er juillet:</p>
 
 <ul>
 	<li>les mercredis a 17h30 a La
 Janaie</li>
 	<li>les samedis a 14h  a La Janaie</li>
 	<li>les lundis
 a 18h  <strong>a La Janaie a partir du 12
 juin</strong></li>
 </ul>
 
 <p>Ces horaires sont a respecter en tenue
 sur le terrain!</p>
 
URL;VALUE=URI:https://www.rugbymelesse.fr/evenements/2017/06/10/entrainement-m16-la-janaie-834256
END:VEVENT
END:VCALENDAR
